BEGIN:VCALENDAR
VERSION:2.0
PRODID:-//אגודת מכבי ראשון לציון לשחיה - ECPv5.4.0//NONSGML v1.0//EN
CALSCALE:GREGORIAN
METHOD:PUBLISH
X-WR-CALNAME:אגודת מכבי ראשון לציון לשחיה
X-ORIGINAL-URL:https://www.rishonswim.co.il
X-WR-CALDESC:אירועים ל אגודת מכבי ראשון לציון לשחיה
BEGIN:VTIMEZONE
TZID:UTC
BEGIN:STANDARD
TZOFFSETFROM:+0000
TZOFFSETTO:+0000
TZNAME:UTC
DTSTART:20200101T000000
END:STANDARD
END:VTIMEZONE
BEGIN:VEVENT
DTSTART;VALUE=DATE:20200819
DTEND;VALUE=DATE:20200820
DTSTAMP:20260423T225746
CREATED:20190814T120835Z
LAST-MODIFIED:20200819T114753Z
UID:1445-1597795200-1597881599@www.rishonswim.co.il
SUMMARY:אליפות קורונה לבוגרים קיץ 2020
DESCRIPTION:
URL:https://www.rishonswim.co.il/event/%d7%90%d7%9c%d7%99%d7%a4%d7%95%d7%aa-%d7%99%d7%a9%d7%a8%d7%90%d7%9c-%d7%9c%d7%91%d7%95%d7%92%d7%a8%d7%99%d7%9d-%d7%a7%d7%99%d7%a5-2020/
LOCATION:מכון וינגייט\, נתניה\, 42902\, ישראל
END:VEVENT
END:VCALENDAR