BEGIN:VCALENDAR
VERSION:2.0
PRODID:-//אגודת מכבי ראשון לציון לשחיה - ECPv5.4.0//NONSGML v1.0//EN
CALSCALE:GREGORIAN
METHOD:PUBLISH
X-WR-CALNAME:אגודת מכבי ראשון לציון לשחיה
X-ORIGINAL-URL:https://www.rishonswim.co.il
X-WR-CALDESC:אירועים ל אגודת מכבי ראשון לציון לשחיה
BEGIN:VTIMEZONE
TZID:UTC
BEGIN:STANDARD
TZOFFSETFROM:+0000
TZOFFSETTO:+0000
TZNAME:UTC
DTSTART:20200101T000000
END:STANDARD
END:VTIMEZONE
BEGIN:VEVENT
DTSTART;TZID=UTC:20200528T080000
DTEND;TZID=UTC:20200528T150000
DTSTAMP:20260423T190353
CREATED:20190830T181755Z
LAST-MODIFIED:20190830T181827Z
UID:1467-1590652800-1590678000@www.rishonswim.co.il
SUMMARY:״פרחי ראשל״צ״ לזכרו של יאיר דורון ז״ל
DESCRIPTION:
URL:https://www.rishonswim.co.il/event/%d7%b4%d7%a4%d7%a8%d7%97%d7%99-%d7%a8%d7%90%d7%a9%d7%9c%d7%b4%d7%a6%d7%b4-%d7%9c%d7%96%d7%9b%d7%a8%d7%95-%d7%a9%d7%9c-%d7%99%d7%90%d7%99%d7%a8-%d7%93%d7%95%d7%a8%d7%95%d7%9f-%d7%96%d7%b4%d7%9c/
LOCATION:בריכת שיכון המזרח מורדי הגטאות 42 ראשון לציון
END:VEVENT
END:VCALENDAR