BEGIN:VCALENDAR
VERSION:2.0
PRODID:-//אגודת מכבי ראשון לציון לשחיה - ECPv5.4.0//NONSGML v1.0//EN
CALSCALE:GREGORIAN
METHOD:PUBLISH
X-WR-CALNAME:אגודת מכבי ראשון לציון לשחיה
X-ORIGINAL-URL:https://www.rishonswim.co.il
X-WR-CALDESC:אירועים ל אגודת מכבי ראשון לציון לשחיה
BEGIN:VTIMEZONE
TZID:UTC
BEGIN:STANDARD
TZOFFSETFROM:+0000
TZOFFSETTO:+0000
TZNAME:UTC
DTSTART:20200101T000000
END:STANDARD
END:VTIMEZONE
BEGIN:VEVENT
DTSTART;VALUE=DATE:20200320
DTEND;VALUE=DATE:20200322
DTSTAMP:20260423T161851
CREATED:20190830T175233Z
LAST-MODIFIED:20190830T175233Z
UID:1460-1584662400-1584835199@www.rishonswim.co.il
SUMMARY:אליפות עמק חפר הפתוחה
DESCRIPTION:
URL:https://www.rishonswim.co.il/event/%d7%90%d7%9c%d7%99%d7%a4%d7%95%d7%aa-%d7%a2%d7%9e%d7%a7-%d7%97%d7%a4%d7%a8-%d7%94%d7%a4%d7%aa%d7%95%d7%97%d7%94/
LOCATION:מכון וינגייט\, נתניה\, 42902\, ישראל
END:VEVENT
END:VCALENDAR