BEGIN:VCALENDAR
VERSION:2.0
PRODID:-//אגודת מכבי ראשון לציון לשחיה - ECPv5.4.0//NONSGML v1.0//EN
CALSCALE:GREGORIAN
METHOD:PUBLISH
X-WR-CALNAME:אגודת מכבי ראשון לציון לשחיה
X-ORIGINAL-URL:https://www.rishonswim.co.il
X-WR-CALDESC:אירועים ל אגודת מכבי ראשון לציון לשחיה
BEGIN:VTIMEZONE
TZID:UTC
BEGIN:STANDARD
TZOFFSETFROM:+0000
TZOFFSETTO:+0000
TZNAME:UTC
DTSTART:20200101T000000
END:STANDARD
END:VTIMEZONE
BEGIN:VEVENT
DTSTART;VALUE=DATE:20200217
DTEND;VALUE=DATE:20200220
DTSTAMP:20260423T143630
CREATED:20190814T120337Z
LAST-MODIFIED:20200121T121349Z
UID:1432-1581897600-1582156799@www.rishonswim.co.il
SUMMARY:אליפות הגילאים חורף 2020
DESCRIPTION:תקנון האליפות\n		\n					\n		\n				\n				\n						\n					\n		\n				\n			\n							\n						\n				\n					\n			\n						\n						תקנון אליפות גל שני\n		\n					\n		\n				\n				\n						\n					\n		\n								\n					\n		\n				\n						\n							\n					\n			\n							\n						\n				\n					\n			\n						\n						רשימת העולים לגמר\n		\n					\n		\n				\n				\n						\n					\n		\n				\n			\n							\n						\n				\n					\n			\n						\n						תוצאות המוקדמות
URL:https://www.rishonswim.co.il/event/%d7%90%d7%9c%d7%99%d7%a4%d7%95%d7%aa-%d7%94%d7%92%d7%99%d7%9c%d7%90%d7%99%d7%9d-%d7%97%d7%95%d7%a8%d7%a3-2020/
LOCATION:מכון וינגייט\, נתניה\, 42902\, ישראל
END:VEVENT
BEGIN:VEVENT
DTSTART;TZID=UTC:20200219T140000
DTEND;TZID=UTC:20200219T190000
DTSTAMP:20260423T143630
CREATED:20200121T121647Z
LAST-MODIFIED:20200121T121647Z
UID:1634-1582120800-1582138800@www.rishonswim.co.il
SUMMARY:אליפות הגילאים הגל השני חורף 2020
DESCRIPTION:תקנון האליפות\n		\n					\n		\n				\n				\n						\n					\n		\n				\n			\n							\n						\n				\n					\n			\n						\n						תקנון אליפות גל שני\n		\n					\n		\n				\n				\n						\n					\n		\n								\n					\n		\n				\n						\n							\n					\n			\n							\n						\n				\n					\n			\n						\n						רשימת העולים לגמר\n		\n					\n		\n				\n				\n						\n					\n		\n				\n			\n							\n						\n				\n					\n			\n						\n						תוצאות המוקדמות
URL:https://www.rishonswim.co.il/event/%d7%90%d7%9c%d7%99%d7%a4%d7%95%d7%aa-%d7%94%d7%92%d7%99%d7%9c%d7%90%d7%99%d7%9d-%d7%94%d7%92%d7%9c-%d7%94%d7%a9%d7%a0%d7%99-%d7%97%d7%95%d7%a8%d7%a3-2020/
END:VEVENT
END:VCALENDAR