BEGIN:VCALENDAR
VERSION:2.0
PRODID:-//אגודת מכבי ראשון לציון לשחיה - ECPv5.4.0//NONSGML v1.0//EN
CALSCALE:GREGORIAN
METHOD:PUBLISH
X-WR-CALNAME:אגודת מכבי ראשון לציון לשחיה
X-ORIGINAL-URL:https://www.rishonswim.co.il
X-WR-CALDESC:אירועים ל אגודת מכבי ראשון לציון לשחיה
BEGIN:VTIMEZONE
TZID:UTC
BEGIN:STANDARD
TZOFFSETFROM:+0000
TZOFFSETTO:+0000
TZNAME:UTC
DTSTART:20190101T000000
END:STANDARD
END:VTIMEZONE
BEGIN:VEVENT
DTSTART;TZID=UTC:20190725T180000
DTEND;TZID=UTC:20190725T190000
DTSTAMP:20210505T050722
CREATED:20190705T060407Z
LAST-MODIFIED:20190705T060407Z
UID:1385-1564077600-1564081200@www.rishonswim.co.il
SUMMARY:מיונים לשחייניות ושחייני שנתון 2010-2013
DESCRIPTION:בתאריך 25.7.19 בשעה 18:00 נקיים מיונים לשחייני האגודה אשר שוחים בחוגים שנתון 2010 עד 2013.\nמטרת המיונים לאתר את הכשרונות הצעירים באגודה ולנתב אותם לקבוצות טרום נבחרת.\nיש להגיע עם בגד ים ומשקפת\nבהצלחה לכולם 🏊‍♂🏊‍♀🥇
URL:https://www.rishonswim.co.il/event/%d7%9e%d7%99%d7%95%d7%a0%d7%99%d7%9d-%d7%9c%d7%a9%d7%97%d7%99%d7%99%d7%a0%d7%99%d7%95%d7%aa-%d7%95%d7%a9%d7%97%d7%99%d7%99%d7%a0%d7%99-%d7%a9%d7%a0%d7%aa%d7%95%d7%9f-2010-2013/
END:VEVENT
END:VCALENDAR