BEGIN:VCALENDAR
VERSION:2.0
PRODID:-//אגודת מכבי ראשון לציון לשחיה - ECPv5.4.0//NONSGML v1.0//EN
CALSCALE:GREGORIAN
METHOD:PUBLISH
X-WR-CALNAME:אגודת מכבי ראשון לציון לשחיה
X-ORIGINAL-URL:https://www.rishonswim.co.il
X-WR-CALDESC:אירועים ל אגודת מכבי ראשון לציון לשחיה
BEGIN:VTIMEZONE
TZID:UTC
BEGIN:STANDARD
TZOFFSETFROM:+0000
TZOFFSETTO:+0000
TZNAME:UTC
DTSTART:20200101T000000
END:STANDARD
END:VTIMEZONE
BEGIN:VEVENT
DTSTART;VALUE=DATE:20200110
DTEND;VALUE=DATE:20200111
DTSTAMP:20260425T030221
CREATED:20190814T120051Z
LAST-MODIFIED:20191231T090103Z
UID:1425-1578614400-1578700799@www.rishonswim.co.il
SUMMARY:מוקדמות צעירים מס 1 מחוזות תיכון ודרום
DESCRIPTION:תקנון
URL:https://www.rishonswim.co.il/event/%d7%9e%d7%95%d7%a7%d7%93%d7%9e%d7%95%d7%aa-%d7%a6%d7%a2%d7%99%d7%a8%d7%99%d7%9d-%d7%9e%d7%a1-1-%d7%9e%d7%97%d7%95%d7%96%d7%95%d7%aa-%d7%aa%d7%99%d7%9b%d7%95%d7%9f-%d7%95%d7%93%d7%a8%d7%95%d7%9d/
LOCATION:מכון וינגייט\, נתניה\, 42902\, ישראל
END:VEVENT
END:VCALENDAR