BEGIN:VCALENDAR
VERSION:2.0
PRODID:-//אגודת מכבי ראשון לציון לשחיה - ECPv5.4.0//NONSGML v1.0//EN
CALSCALE:GREGORIAN
METHOD:PUBLISH
X-WR-CALNAME:אגודת מכבי ראשון לציון לשחיה
X-ORIGINAL-URL:https://www.rishonswim.co.il
X-WR-CALDESC:אירועים ל אגודת מכבי ראשון לציון לשחיה
BEGIN:VTIMEZONE
TZID:UTC
BEGIN:STANDARD
TZOFFSETFROM:+0000
TZOFFSETTO:+0000
TZNAME:UTC
DTSTART:20190101T000000
END:STANDARD
END:VTIMEZONE
BEGIN:VEVENT
DTSTART;VALUE=DATE:20191230
DTEND;VALUE=DATE:20191231
DTSTAMP:20260425T015618
CREATED:20191228T094225Z
LAST-MODIFIED:20191228T095215Z
UID:1579-1577664000-1577750399@www.rishonswim.co.il
SUMMARY:גביע ירושליים
DESCRIPTION:תקנון \n		\n					\n		\n				\n				\n						\n					\n		\n								\n					\n		\n				\n						\n							\n					\n			\n							\n						\n				\n					\n			\n						\n						הרשמות
URL:https://www.rishonswim.co.il/event/%d7%92%d7%91%d7%99%d7%a2-%d7%99%d7%a8%d7%95%d7%a9%d7%9c%d7%99%d7%99%d7%9d/
LOCATION:בריכת חוות הנוער הציוני\, רח' הורקניה 26\, ירושלים\, Israel
END:VEVENT
END:VCALENDAR