BEGIN:VCALENDAR
VERSION:2.0
PRODID:-//אגודת מכבי ראשון לציון לשחיה - ECPv5.4.0//NONSGML v1.0//EN
CALSCALE:GREGORIAN
METHOD:PUBLISH
X-WR-CALNAME:אגודת מכבי ראשון לציון לשחיה
X-ORIGINAL-URL:https://www.rishonswim.co.il
X-WR-CALDESC:אירועים ל אגודת מכבי ראשון לציון לשחיה
BEGIN:VTIMEZONE
TZID:UTC
BEGIN:STANDARD
TZOFFSETFROM:+0000
TZOFFSETTO:+0000
TZNAME:UTC
DTSTART:20190101T000000
END:STANDARD
END:VTIMEZONE
BEGIN:VEVENT
DTSTART;VALUE=DATE:20191225
DTEND;VALUE=DATE:20191229
DTSTAMP:20260425T013904
CREATED:20190830T174440Z
LAST-MODIFIED:20200101T072919Z
UID:1455-1577232000-1577577599@www.rishonswim.co.il
SUMMARY:אליפות חורף לנוער ובוגרים
DESCRIPTION:תוצאות יום רביעי 25.12 בוקר\n		\n					\n		\n				\n				\n						\n					\n		\n				\n			\n							\n						\n				\n					\n			\n						\n						תוצאות יום רביעי 25.12 ערב\n		\n					\n		\n				\n				\n						\n					\n		\n				\n			\n							\n						\n				\n					\n			\n						\n						תוצאות יום חמישי 26.12 בוקר\n		\n					\n		\n				\n				\n						\n					\n		\n				\n			\n							\n						\n				\n					\n			\n						\n						תוצאות יום חמישי 26.12 ערב\n		\n					\n		\n				\n				\n						\n					\n		\n								\n					\n		\n				\n						\n							\n					\n			\n							\n						\n				\n					\n			\n						\n						תוצאות יום שישי 27.12 בוקר\n		\n					\n		\n				\n				\n						\n					\n		\n				\n			\n							\n						\n				\n					\n			\n						\n						תוצאות יום שישי 27.12 ערב\n		\n					\n		\n				\n				\n						\n					\n		\n				\n			\n							\n								\n					\n		\n				\n			\n							\n						\n				\n					\n			\n						\n						תוצאות יום שבת 28.12 ערב\n		\n					\n		\n				\n				\n						\n					\n		\n								\n					\n		\n				\n						\n							\n					\n			\n							\n						\n				\n					\n			\n						\n						תיקוד נוער סופי\n		\n					\n		\n				\n				\n						\n					\n		\n				\n			\n							\n						\n				\n					\n			\n						\n						ניקוד בוגרים סופי
URL:https://www.rishonswim.co.il/event/%d7%90%d7%9c%d7%99%d7%a4%d7%95%d7%aa-%d7%97%d7%95%d7%a8%d7%a3-%d7%9c%d7%a0%d7%95%d7%a2%d7%a8-%d7%95%d7%91%d7%95%d7%92%d7%a8%d7%99%d7%9d/
LOCATION:מכון וינגייט\, נתניה\, 42902\, ישראל
END:VEVENT
END:VCALENDAR