BEGIN:VCALENDAR
VERSION:2.0
PRODID:-//אגודת מכבי ראשון לציון לשחיה - ECPv5.4.0//NONSGML v1.0//EN
CALSCALE:GREGORIAN
METHOD:PUBLISH
X-WR-CALNAME:אגודת מכבי ראשון לציון לשחיה
X-ORIGINAL-URL:https://www.rishonswim.co.il
X-WR-CALDESC:אירועים ל אגודת מכבי ראשון לציון לשחיה
BEGIN:VTIMEZONE
TZID:UTC
BEGIN:STANDARD
TZOFFSETFROM:+0000
TZOFFSETTO:+0000
TZNAME:UTC
DTSTART:20190101T000000
END:STANDARD
END:VTIMEZONE
BEGIN:VEVENT
DTSTART;TZID=UTC:20190926T160000
DTEND;TZID=UTC:20190926T203000
DTSTAMP:20210505T050734
CREATED:20190814T115149Z
LAST-MODIFIED:20190830T173351Z
UID:1412-1569513600-1569529800@www.rishonswim.co.il
SUMMARY:אליפות האגודה לזכרו של השחיין רואי פלח ז״ל
DESCRIPTION:הזמנה ופרטים נוספים בהמשך…
URL:https://www.rishonswim.co.il/event/%d7%90%d7%9c%d7%99%d7%a4%d7%95%d7%aa-%d7%94%d7%90%d7%92%d7%95%d7%93%d7%94-%d7%9c%d7%96%d7%9b%d7%a8%d7%95-%d7%a9%d7%9c-%d7%94%d7%a9%d7%97%d7%99%d7%99%d7%9f-%d7%a8%d7%95%d7%90%d7%99-%d7%a4%d7%9c%d7%97/
LOCATION:בבריכת שיכון המזרח\, רחוב מורדי הגטאות 42
END:VEVENT
END:VCALENDAR